BEGIN:VCALENDAR
VERSION:2.0
PRODID:SchoolNow
CALSCALE:GREGORIAN
BEGIN:VEVENT
UID:44116440-5331-11ee-956e-0a58a9feac02
DTSTAMP:20230925T144709Z
SUMMARY:In Person Focus Group: Superintendent Search - October 4\, 2023
URL;VALUE=URI:https://www.orcsd.org/calendar/4737689/in-person-focus-group-
 superintendent-search-october-4-2023
DTSTART:20231004T230000Z
DTEND:20231005T000000Z
END:VEVENT
END:VCALENDAR
