BEGIN:VCALENDAR
VERSION:2.0
PRODID:SchoolNow
CALSCALE:GREGORIAN
BEGIN:VEVENT
UID:68644aca-abfa-11ee-b714-0e05efb7f133
DTSTAMP:20240916T130950Z
SUMMARY:Martin Luther King\, Jr. Civil Rights Day - January 20\, 2025
URL;VALUE=URI:https://www.orcsd.org/calendar/5109246/martin-luther-king-day
 -january-20-2025
DTSTART;VALUE=DATE:20250120
DTEND;VALUE=DATE:20250121
END:VEVENT
END:VCALENDAR
