BEGIN:VCALENDAR
VERSION:2.0
PRODID:SchoolNow
CALSCALE:GREGORIAN
BEGIN:VEVENT
UID:88d875ec-abfa-11ee-b466-02e59af43443
DTSTAMP:20241008T120021Z
SUMMARY:Teacher Workshop Day - January 27\, 2025
URL;VALUE=URI:https://www.orcsd.org/calendar/5109251/teacher-workshop-day-j
 anuary-27-2025
DTSTART;VALUE=DATE:20250127
DTEND;VALUE=DATE:20250128
END:VEVENT
END:VCALENDAR
