BEGIN:VCALENDAR
VERSION:2.0
PRODID:SchoolNow
CALSCALE:GREGORIAN
BEGIN:VEVENT
UID:d414ae56-0d41-11ef-bc0d-0affd684c81b
DTSTAMP:20240508T141122Z
SUMMARY:School Board Meeting-January 2\, 2025
URL;VALUE=URI:https://www.orcsd.org/calendar/5936255/school-board-meeting-j
 anuary-2-2025
DTSTART:20250103T000000Z
DTEND:20250103T013000Z
END:VEVENT
END:VCALENDAR
