BEGIN:VCALENDAR
VERSION:2.0
PRODID:SchoolNow
CALSCALE:GREGORIAN
BEGIN:VEVENT
UID:27fd70c4-0d43-11ef-866b-0a58a9feac02
DTSTAMP:20240521T141309Z
SUMMARY:School Board Meeting-April 2\, 2025
URL;VALUE=URI:https://www.orcsd.org/calendar/5936827/school-board-meeting-a
 pril-2-2025
DTSTART:20250402T230000Z
DTEND:20250403T003000Z
END:VEVENT
END:VCALENDAR
