BEGIN:VCALENDAR
VERSION:2.0
PRODID:SchoolNow
CALSCALE:GREGORIAN
BEGIN:VEVENT
UID:93debfbe-0d43-11ef-baac-0a58a9feac02
DTSTAMP:20240521T140849Z
SUMMARY:School Board Meeting-July 17\, 2024
URL;VALUE=URI:https://www.orcsd.org/calendar/5936833/school-board-meeting-j
 uly-17-2024
DTSTART:20240717T230000Z
DTEND:20240718T003000Z
END:VEVENT
END:VCALENDAR
