BEGIN:VCALENDAR
VERSION:2.0
PRODID:SchoolNow
CALSCALE:GREGORIAN
BEGIN:VEVENT
UID:e15883d4-cf5c-11ef-94df-0a58a9feac02
DTSTAMP:20250110T141209Z
SUMMARY:Teacher Workshop Day - May 22\, 2026
URL;VALUE=URI:https://www.orcsd.org/calendar/7295892/teacher-workshop-day-m
 ay-22-2026
DTSTART;VALUE=DATE:20260522
DTEND;VALUE=DATE:20260523
END:VEVENT
END:VCALENDAR
