BEGIN:VCALENDAR
VERSION:2.0
PRODID:SchoolNow
CALSCALE:GREGORIAN
BEGIN:VEVENT
UID:1eb0dd44-cf5d-11ef-82f7-0eb440453ca1
DTSTAMP:20250110T141352Z
SUMMARY:Memorial Day - May 25\, 2026
URL;VALUE=URI:https://www.orcsd.org/calendar/7295897/memorial-day-may-25-20
 26
DTSTART;VALUE=DATE:20260525
DTEND;VALUE=DATE:20260526
END:VEVENT
END:VCALENDAR
