BEGIN:VCALENDAR
VERSION:2.0
PRODID:SchoolNow
CALSCALE:GREGORIAN
BEGIN:VEVENT
UID:5abf63c8-cf5d-11ef-9f9a-0afffba8b1b9
DTSTAMP:20250110T141533Z
SUMMARY:Juneteenth - June 19\, 2026
URL;VALUE=URI:https://www.orcsd.org/calendar/7295902/juneteenth-june-19-202
 6
DTSTART;VALUE=DATE:20260619
DTEND;VALUE=DATE:20260620
END:VEVENT
END:VCALENDAR
