BEGIN:VCALENDAR
VERSION:2.0
PRODID:SchoolNow
CALSCALE:GREGORIAN
BEGIN:VEVENT
UID:94d35dc6-cf5d-11ef-a9c0-0eb440453ca1
DTSTAMP:20260416T165259Z
SUMMARY:Last Day of School - June 16\, 2026
URL;VALUE=URI:https://www.orcsd.org/calendar/7295907/last-day-of-school-wit
 h-5-built-in-snow-days-june-24-2026
DTSTART;VALUE=DATE:20260616
DTEND;VALUE=DATE:20260617
END:VEVENT
END:VCALENDAR
