BEGIN:VCALENDAR
VERSION:2.0
PRODID:SchoolNow
CALSCALE:GREGORIAN
BEGIN:VEVENT
UID:b2d8da6e-37f7-11f0-b57b-0a58a9feac02
DTSTAMP:20250523T170224Z
SUMMARY:ORCSD School Board Meeting - April 15\, 2026
URL;VALUE=URI:https://www.orcsd.org/calendar/8187459/orcsd-school-board-mee
 ting-april-15-2026
DTSTART:20260415T230000Z
DTEND:20260416T000000Z
END:VEVENT
END:VCALENDAR
