BEGIN:VCALENDAR
VERSION:2.0
PRODID:SchoolNow
CALSCALE:GREGORIAN
BEGIN:VEVENT
UID:e38403c8-37f7-11f0-a059-0a58a9feac02
DTSTAMP:20250523T170346Z
SUMMARY:ORSCD School Board Meeting - May 6\, 2026
URL;VALUE=URI:https://www.orcsd.org/calendar/8187464/orscd-school-board-mee
 ting-may-6-2026
DTSTART:20260506T230000Z
DTEND:20260507T000000Z
END:VEVENT
END:VCALENDAR
