BEGIN:VCALENDAR
VERSION:2.0
PRODID:SchoolNow
CALSCALE:GREGORIAN
BEGIN:VEVENT
UID:1d1d904a-37f8-11f0-8ca9-0a58a9feac02
DTSTAMP:20250523T170522Z
SUMMARY:ORCSD School Board Meeting - June 3\, 2026
URL;VALUE=URI:https://www.orcsd.org/calendar/8187482/orcsd-school-board-mee
 ting-june-3-2026
DTSTART:20260603T230000Z
DTEND:20260604T000000Z
END:VEVENT
END:VCALENDAR
