BEGIN:VCALENDAR
VERSION:2.0
PRODID:SchoolNow
CALSCALE:GREGORIAN
BEGIN:VEVENT
UID:3b6e6704-37f8-11f0-9375-0a58a9feac02
DTSTAMP:20250523T170613Z
SUMMARY:ORCSD School Board Meeting - June 17\, 2026
URL;VALUE=URI:https://www.orcsd.org/calendar/8187487/orcsd-school-board-mee
 ting-june-17-2026
DTSTART:20260617T230000Z
DTEND:20260618T000000Z
END:VEVENT
END:VCALENDAR
