BEGIN:VCALENDAR
VERSION:2.0
PRODID:SchoolNow
CALSCALE:GREGORIAN
BEGIN:VEVENT
UID:935985ee-dc4d-11f0-a532-0a58a9feac02
DTSTAMP:20251218T201019Z
SUMMARY:Teacher Workshop Day - August 28\, 2026
URL;VALUE=URI:https://www.orcsd.org/calendar/8825822/teacher-workshop-day-a
 ugust-28-2026
DTSTART;VALUE=DATE:20260828
DTEND;VALUE=DATE:20260829
END:VEVENT
END:VCALENDAR
