BEGIN:VCALENDAR
VERSION:2.0
PRODID:SchoolNow
CALSCALE:GREGORIAN
BEGIN:VEVENT
UID:dd4278b4-dc4d-11f0-9fa6-0e44f22a414f
DTSTAMP:20251218T201828Z
SUMMARY:Labor Day Observance - September 7-8\, 2026
URL;VALUE=URI:https://www.orcsd.org/calendar/8825824/labor-day-observance-s
 eptember-7-2026
DTSTART;VALUE=DATE:20260907
DTEND;VALUE=DATE:20260909
END:VEVENT
END:VCALENDAR
