BEGIN:VCALENDAR
VERSION:2.0
PRODID:SchoolNow
CALSCALE:GREGORIAN
BEGIN:VEVENT
UID:55ddd3b8-dc4e-11f0-8bbb-02b3b80df7bf
DTSTAMP:20251218T201545Z
SUMMARY:Veterans Day Observed - November 11\, 2026
URL;VALUE=URI:https://www.orcsd.org/calendar/8825829/veterans-day-observed-
 november-11-2026
DTSTART;VALUE=DATE:20261111
DTEND;VALUE=DATE:20261112
END:VEVENT
END:VCALENDAR
