BEGIN:VCALENDAR
VERSION:2.0
PRODID:SchoolNow
CALSCALE:GREGORIAN
BEGIN:VEVENT
UID:6329f4c8-dc50-11f0-8af9-0a58a9feac02
DTSTAMP:20251218T204045Z
SUMMARY:Martin Luther King Jr. Civil Rights Day - January 18\, 2027
URL;VALUE=URI:https://www.orcsd.org/calendar/8825873/martin-luther-king-jr-
 civil-rights-day-january-18-2027
DTSTART;VALUE=DATE:20270118
DTEND;VALUE=DATE:20270119
END:VEVENT
END:VCALENDAR
