BEGIN:VCALENDAR
VERSION:2.0
PRODID:SchoolNow
CALSCALE:GREGORIAN
BEGIN:VEVENT
UID:89edc7c4-dc50-11f0-990a-0a58a9feac02
DTSTAMP:20251218T203131Z
SUMMARY:Teacher Workshop Day - January 26\, 2027
URL;VALUE=URI:https://www.orcsd.org/calendar/8825874/teacher-workshop-day-j
 anuary-26-2027
DTSTART;VALUE=DATE:20270126
DTEND;VALUE=DATE:20270127
END:VEVENT
END:VCALENDAR
