BEGIN:VCALENDAR
VERSION:2.0
PRODID:SchoolNow
CALSCALE:GREGORIAN
BEGIN:VEVENT
UID:689a1ec0-0c6d-11ee-9492-0a6006a20b37
DTSTAMP:20230616T174414Z
SUMMARY:School Board Meeting-March 20\, 2024
URL;VALUE=URI:https://www.orcsd.org/moh/calendar/4398472/school-board-meeti
 ng-march-20-2024
DTSTART:20240320T230000Z
DTEND:20240321T010000Z
END:VEVENT
END:VCALENDAR
