BEGIN:VCALENDAR
VERSION:2.0
PRODID:SchoolNow
CALSCALE:GREGORIAN
BEGIN:VEVENT
UID:884633da-0c6d-11ee-a145-0e14414dd41b
DTSTAMP:20240402T123049Z
SUMMARY:School Board Meeting-April 3\, 2024
URL;VALUE=URI:https://www.orcsd.org/moh/calendar/4398514/school-board-meeti
 ng-april-3-2024
DTSTART:20240403T230000Z
DTEND:20240404T010000Z
END:VEVENT
END:VCALENDAR
