BEGIN:VCALENDAR
VERSION:2.0
PRODID:SchoolNow
CALSCALE:GREGORIAN
BEGIN:VEVENT
UID:a8f89b54-0c6d-11ee-8847-027af5c91315
DTSTAMP:20230616T174602Z
SUMMARY:School Board Meeting-April 17\, 2024
URL;VALUE=URI:https://www.orcsd.org/moh/calendar/4398519/school-board-meeti
 ng-april-17-2024
DTSTART:20240417T230000Z
DTEND:20240418T010000Z
END:VEVENT
END:VCALENDAR
