BEGIN:VCALENDAR
VERSION:2.0
PRODID:SchoolNow
CALSCALE:GREGORIAN
BEGIN:VEVENT
UID:cdc062a8-0c6f-11ee-90a1-0aab95f590ed
DTSTAMP:20230616T180253Z
SUMMARY:School Board Meeting-February 21\, 2024
URL;VALUE=URI:https://www.orcsd.org/moh/calendar/4399465/school-board-meeti
 ng-february-21-2024
DTSTART:20240222T000000Z
DTEND:20240222T020000Z
END:VEVENT
END:VCALENDAR
