BEGIN:VCALENDAR
VERSION:2.0
PRODID:SchoolNow
CALSCALE:GREGORIAN
BEGIN:VEVENT
UID:1f6673c2-0c70-11ee-ae14-0e14414dd41b
DTSTAMP:20230616T180339Z
SUMMARY:School Board Meeting-March 6\, 2024
URL;VALUE=URI:https://www.orcsd.org/moh/calendar/4399469/school-board-meeti
 ng-march-6-2024
DTSTART:20240307T000000Z
DTEND:20240307T020000Z
END:VEVENT
END:VCALENDAR
