BEGIN:VCALENDAR
VERSION:2.0
PRODID:SchoolNow
CALSCALE:GREGORIAN
BEGIN:VEVENT
UID:f94daca0-5954-11ee-ac26-0a58a9feac02
DTSTAMP:20230925T180812Z
SUMMARY:MOH Picture Retakes-October 2\, 2023
URL;VALUE=URI:https://www.orcsd.org/moh/calendar/4778032/moh-picture-retake
 s-october-2-2023
DTSTART:20231002T131500Z
DTEND:20231002T134500Z
END:VEVENT
END:VCALENDAR
