BEGIN:VCALENDAR
VERSION:2.0
PRODID:SchoolNow
CALSCALE:GREGORIAN
BEGIN:VEVENT
UID:03632760-6846-11ee-926e-0a58a9feac02
DTSTAMP:20231107T134850Z
SUMMARY:MOH Third Grade World Music Festival–February 15\, 2024
LOCATION:ORMS Recital Hall
URL;VALUE=URI:https://www.orcsd.org/moh/calendar/4854037/moh-third-grade-wo
 rld-music-festival
DTSTART:20240215T233000Z
DTEND:20240216T003000Z
END:VEVENT
END:VCALENDAR
