BEGIN:VCALENDAR
VERSION:2.0
PRODID:SchoolNow
CALSCALE:GREGORIAN
BEGIN:VEVENT
UID:db28913a-6846-11ee-be58-0a58a9feac02
DTSTAMP:20240402T191947Z
SUMMARY:Rescheduled  to April 5 – MOH Fourth Grade Musical\, Finding Nemo
 \, JR–April 4\, 2024
LOCATION:ORHS Auditorium
URL;VALUE=URI:https://www.orcsd.org/moh/calendar/4854039/moh-fourth-grade-m
 usical-finding-nemo-jr
DTSTART:20240404T223000Z
DTEND:20240404T233000Z
END:VEVENT
END:VCALENDAR
