BEGIN:VCALENDAR
VERSION:2.0
PRODID:SchoolNow
CALSCALE:GREGORIAN
BEGIN:VEVENT
UID:bfa3d572-83cc-11ee-9a82-0a33217a2ce9
DTSTAMP:20231222T172528Z
SUMMARY:ORCSD Annual Meeting Session I-February 6\, 2024
URL;VALUE=URI:https://www.orcsd.org/moh/calendar/4949175/orcsd-annual-meeti
 ng-session-i
DTSTART:20240207T000000Z
DTEND:20240207T010000Z
END:VEVENT
END:VCALENDAR
