BEGIN:VCALENDAR
VERSION:2.0
PRODID:SchoolNow
CALSCALE:GREGORIAN
BEGIN:VEVENT
UID:0111f034-83cd-11ee-92a0-0e0a251fee85
DTSTAMP:20240311T142727Z
SUMMARY:Election Day ORSCD Annual Meeting Session II - March 12\, 2024
URL;VALUE=URI:https://www.orcsd.org/moh/calendar/4949180/orscd-annual-meeti
 ng-session-ii-march-12-2024
DTSTART;VALUE=DATE:20240312
DTEND;VALUE=DATE:20240313
END:VEVENT
END:VCALENDAR
