BEGIN:VCALENDAR
VERSION:2.0
PRODID:SchoolNow
CALSCALE:GREGORIAN
BEGIN:VEVENT
UID:3bf4acdc-9601-11ee-b5a5-0e39460725cf
DTSTAMP:20240409T125813Z
SUMMARY:MOH Pancake Breakfast – April 13\, 2024
LOCATION:Moharimet School
URL;VALUE=URI:https://www.orcsd.org/moh/calendar/4989609/moh-pancake-breakf
 ast-april-13-2024
DTSTART:20240413T120000Z
DTEND:20240413T153000Z
END:VEVENT
END:VCALENDAR
