BEGIN:VCALENDAR
VERSION:2.0
PRODID:SchoolNow
CALSCALE:GREGORIAN
BEGIN:VEVENT
UID:c387d162-abf3-11ee-8266-0a58a9feac02
DTSTAMP:20240212T152358Z
SUMMARY:MOH Visiting Author Matt Tavares – February 14\, 2024
LOCATION:Moharimet School
URL;VALUE=URI:https://www.orcsd.org/moh/calendar/5109173/moh-visiting-autho
 r-matt-tavares
DTSTART;VALUE=DATE:20240214
DTEND;VALUE=DATE:20240215
END:VEVENT
END:VCALENDAR
