BEGIN:VCALENDAR
VERSION:2.0
PRODID:SchoolNow
CALSCALE:GREGORIAN
BEGIN:VEVENT
UID:574bede6-abfb-11ee-8a13-0a58a9feac02
DTSTAMP:20240105T185048Z
SUMMARY:April Break - April 28 to May 2\, 2025
URL;VALUE=URI:https://www.orcsd.org/moh/calendar/5109268/april-break-april-
 28-to-may-2-2025
DTSTART;VALUE=DATE:20250428
DTEND;VALUE=DATE:20250503
END:VEVENT
END:VCALENDAR
