BEGIN:VCALENDAR
VERSION:2.0
PRODID:SchoolNow
CALSCALE:GREGORIAN
BEGIN:VEVENT
UID:a2fe850a-abfb-11ee-bb59-0a58a9feac02
DTSTAMP:20240105T185255Z
SUMMARY:Memorial Day - May 26\, 2025
URL;VALUE=URI:https://www.orcsd.org/moh/calendar/5109290/memorial-day-may-2
 6-2025
DTSTART;VALUE=DATE:20250526
DTEND;VALUE=DATE:20250527
END:VEVENT
END:VCALENDAR
