BEGIN:VCALENDAR
VERSION:2.0
PRODID:SchoolNow
CALSCALE:GREGORIAN
BEGIN:VEVENT
UID:135eb98e-bf82-11ee-a025-0a58a9feac02
DTSTAMP:20240130T152026Z
SUMMARY:MOH Open Circle Parent Program–February 7\, 2024
LOCATION:Moharimet School
URL;VALUE=URI:https://www.orcsd.org/moh/calendar/5230316/moh-open-circle-pa
 rent-program-february-7-2024
DTSTART:20240207T233000Z
DTEND:20240208T010000Z
END:VEVENT
END:VCALENDAR
