BEGIN:VCALENDAR
VERSION:2.0
PRODID:SchoolNow
CALSCALE:GREGORIAN
BEGIN:VEVENT
UID:4b69b7de-bf82-11ee-8076-0a58a9feac02
DTSTAMP:20240130T152105Z
SUMMARY:MOH Open Circle Parent Program–February 14\, 2024
LOCATION:Moharimet School
URL;VALUE=URI:https://www.orcsd.org/moh/calendar/5230317/moh-open-circle-pa
 rent-program-february-14-2024
DTSTART:20240214T233000Z
DTEND:20240215T010000Z
END:VEVENT
END:VCALENDAR
