BEGIN:VCALENDAR
VERSION:2.0
PRODID:SchoolNow
CALSCALE:GREGORIAN
BEGIN:VEVENT
UID:0a993170-bf83-11ee-a662-0ac74a3ba04f
DTSTAMP:20240130T152053Z
SUMMARY:MOH Open Circle Parent Program–February 21\, 2024
LOCATION:Moharimet School
URL;VALUE=URI:https://www.orcsd.org/moh/calendar/5230318/moh-open-circle-pa
 rent-program-february-21-2024
DTSTART:20240221T233000Z
DTEND:20240222T010000Z
END:VEVENT
END:VCALENDAR
