BEGIN:VCALENDAR
VERSION:2.0
PRODID:SchoolNow
CALSCALE:GREGORIAN
BEGIN:VEVENT
UID:6b85a5d6-bf83-11ee-8352-024f51fb6897
DTSTAMP:20240130T152246Z
SUMMARY:MOH Open Circle Parent Program–March 6\, 2024
LOCATION:Moharimet School
URL;VALUE=URI:https://www.orcsd.org/moh/calendar/5230320/moh-open-circle-pa
 rent-program-march-6-2024
DTSTART:20240306T233000Z
DTEND:20240307T010000Z
END:VEVENT
END:VCALENDAR
