BEGIN:VCALENDAR
VERSION:2.0
PRODID:SchoolNow
CALSCALE:GREGORIAN
BEGIN:VEVENT
UID:f8689024-d4c0-11ee-ad71-02ff84927a7f
DTSTAMP:20240305T185122Z
SUMMARY:School Board Candidate Forum-March 7\, 2024
URL;VALUE=URI:https://www.orcsd.org/moh/calendar/5408422/school-board-candi
 date-forum
DTSTART:20240307T230000Z
DTEND:20240308T000000Z
END:VEVENT
END:VCALENDAR
