BEGIN:VCALENDAR
VERSION:2.0
PRODID:SchoolNow
CALSCALE:GREGORIAN
BEGIN:VEVENT
UID:af524118-dcb4-11ee-83aa-0a58a9feac02
DTSTAMP:20240308T160825Z
SUMMARY:Early Release All Schools - April 8\, 2024
URL;VALUE=URI:https://www.orcsd.org/moh/calendar/5488899/early-release-all-
 schools-april-8-2024
DTSTART;VALUE=DATE:20240408
DTEND;VALUE=DATE:20240409
END:VEVENT
END:VCALENDAR
