BEGIN:VCALENDAR
VERSION:2.0
PRODID:SchoolNow
CALSCALE:GREGORIAN
BEGIN:VEVENT
UID:1f8295b2-e79d-11ee-89b1-0205d60575ab
DTSTAMP:20240326T160823Z
SUMMARY:Reduced Plastic Lunch Day-April 16\, 2024
URL;VALUE=URI:https://www.orcsd.org/moh/calendar/5597977/reduced-plastic-lu
 nch-day-april-16-2024
DTSTART;VALUE=DATE:20240416
DTEND;VALUE=DATE:20240417
END:VEVENT
END:VCALENDAR
