BEGIN:VCALENDAR
VERSION:2.0
PRODID:SchoolNow
CALSCALE:GREGORIAN
BEGIN:VEVENT
UID:b8e6bf58-f125-11ee-8274-0eca164b46fd
DTSTAMP:20240411T121017Z
SUMMARY:Rescheduled  to April 17\, 2024 MOH Fourth Grade Musical\, Finding 
 Nemo\, JR –April 5\, 2024
LOCATION:Oyster River High School
URL;VALUE=URI:https://www.orcsd.org/moh/calendar/5692085/moh-fourth-grade-m
 usical-finding-nemo-jr-april-5-2024
DTSTART:20240405T223000Z
DTEND:20240405T233000Z
END:VEVENT
END:VCALENDAR
