BEGIN:VCALENDAR
VERSION:2.0
PRODID:SchoolNow
CALSCALE:GREGORIAN
BEGIN:VEVENT
UID:7eb7f73e-f5b2-11ee-9501-0a58a9feac02
DTSTAMP:20240408T164449Z
SUMMARY:MOH–Finding Nemo\, Jr.–April 17\, 2024
LOCATION:Oyster River High School
URL;VALUE=URI:https://www.orcsd.org/moh/calendar/5735980/moh-finding-nemo-j
 r-april-17-2024
DTSTART:20240417T223000Z
DTEND:20240417T233000Z
END:VEVENT
END:VCALENDAR
