BEGIN:VCALENDAR
VERSION:2.0
PRODID:SchoolNow
CALSCALE:GREGORIAN
BEGIN:VEVENT
UID:2cdd5e44-0d46-11ef-8026-0a58a9feac02
DTSTAMP:20240521T141342Z
SUMMARY:School Board Meeting-May 21\, 2025
URL;VALUE=URI:https://www.orcsd.org/moh/calendar/5936935/school-board-meeti
 ng-may-21-2025
DTSTART:20250521T230000Z
DTEND:20250522T003000Z
END:VEVENT
END:VCALENDAR
