BEGIN:VCALENDAR
VERSION:2.0
PRODID:SchoolNow
CALSCALE:GREGORIAN
BEGIN:VEVENT
UID:59af9278-0356-11f0-811d-0e9c0716ca8f
DTSTAMP:20250317T173625Z
SUMMARY:MOH 4th Grade SAS Testing (Math) - May 19\, 2025
URL;VALUE=URI:https://www.orcsd.org/moh/calendar/7705939/moh-4th-grade-sas-
 testing-math-may-19-2025
DTSTART;VALUE=DATE:20250519
DTEND;VALUE=DATE:20250520
END:VEVENT
END:VCALENDAR
