BEGIN:VCALENDAR
VERSION:2.0
PRODID:SchoolNow
CALSCALE:GREGORIAN
BEGIN:VEVENT
UID:77fa3a8a-0356-11f0-b8e8-0a58a9feac02
DTSTAMP:20250317T173716Z
SUMMARY:MOH 4th Grade SAS Testing (Reading) - May 20\, 2025
URL;VALUE=URI:https://www.orcsd.org/moh/calendar/7705940/moh-4th-grade-sas-
 testing-reading-may-20-2025
DTSTART;VALUE=DATE:20250520
DTEND;VALUE=DATE:20250521
END:VEVENT
END:VCALENDAR
