BEGIN:VCALENDAR
VERSION:2.0
PRODID:SchoolNow
CALSCALE:GREGORIAN
BEGIN:VEVENT
UID:82ffb82e-0356-11f0-9c4c-0affebf34823
DTSTAMP:20250317T173734Z
SUMMARY:MOH 4th Grade SAS Testing (Reading) - May 21\, 2025
URL;VALUE=URI:https://www.orcsd.org/moh/calendar/7705941/moh-4th-grade-sas-
 testing-reading-may-21-2025
DTSTART;VALUE=DATE:20250521
DTEND;VALUE=DATE:20250522
END:VEVENT
END:VCALENDAR
