BEGIN:VCALENDAR
VERSION:2.0
PRODID:SchoolNow
CALSCALE:GREGORIAN
BEGIN:VEVENT
UID:b18f68ce-0356-11f0-ac0c-0a58a9feac02
DTSTAMP:20250317T173852Z
SUMMARY:MOH 3rd Grade SAS Testing (Math) - May 27\, 2025
URL;VALUE=URI:https://www.orcsd.org/moh/calendar/7705942/moh-3rd-grade-sas-
 testing-math-may-27-2025
DTSTART;VALUE=DATE:20250527
DTEND;VALUE=DATE:20250528
END:VEVENT
END:VCALENDAR
