BEGIN:VCALENDAR
VERSION:2.0
PRODID:SchoolNow
CALSCALE:GREGORIAN
BEGIN:VEVENT
UID:c22384fe-0356-11f0-be92-0a58a9feac02
DTSTAMP:20250317T173920Z
SUMMARY:MOH 3rd Grade SAS Testing (Reading) - May 28\, 2025
URL;VALUE=URI:https://www.orcsd.org/moh/calendar/7705943/moh-3rd-grade-sas-
 testing-reading-may-28-2025
DTSTART;VALUE=DATE:20250528
DTEND;VALUE=DATE:20250529
END:VEVENT
END:VCALENDAR
