BEGIN:VCALENDAR
VERSION:2.0
PRODID:SchoolNow
CALSCALE:GREGORIAN
BEGIN:VEVENT
UID:ced12e40-0356-11f0-a83c-026424bd50af
DTSTAMP:20250317T173942Z
SUMMARY:MOH 3rd Grade SAS Testing (Writing) - May 29\, 2025
URL;VALUE=URI:https://www.orcsd.org/moh/calendar/7705944/moh-3rd-grade-sas-
 testing-writing-may-29-2025
DTSTART;VALUE=DATE:20250529
DTEND;VALUE=DATE:20250530
END:VEVENT
END:VCALENDAR
