BEGIN:VCALENDAR
VERSION:2.0
PRODID:SchoolNow
CALSCALE:GREGORIAN
BEGIN:VEVENT
UID:8a1b2086-dc4e-11f0-80b6-0a58a9feac02
DTSTAMP:20251218T201713Z
SUMMARY:Teacher Workshop Day - August 27\, 2026
URL;VALUE=URI:https://www.orcsd.org/moh/calendar/8825832/teacher-workshop-d
 ay-august-27-2026
DTSTART;VALUE=DATE:20260827
DTEND;VALUE=DATE:20260828
END:VEVENT
END:VCALENDAR
